BEGIN:VCALENDAR
VERSION:2.0
PRODID:spatie/icalendar-generator
DESCRIPTION:Évènements de BILLARD CLUB BALGENTIEN
X-WR-CALDESC:Évènements de BILLARD CLUB BALGENTIEN
REFRESH-INTERVAL;VALUE=DURATION:PT1440M
X-PUBLISHED-TTL:PT1440M
BEGIN:VTIMEZONE
TZID:Europe/Paris
BEGIN:STANDARD
DTSTART:20241027T030000Z
TZOFFSETFROM:+0200
TZOFFSETTO:+0100
END:STANDARD
BEGIN:DAYLIGHT
DTSTART:20250330T020000Z
TZOFFSETFROM:+0100
TZOFFSETTO:+0200
END:DAYLIGHT
BEGIN:STANDARD
DTSTART:20251026T030000Z
TZOFFSETFROM:+0200
TZOFFSETTO:+0100
END:STANDARD
END:VTIMEZONE
BEGIN:VTIMEZONE
TZID:UTC
BEGIN:STANDARD
DTSTART:20250725T110652Z
TZOFFSETFROM:+0000
TZOFFSETTO:+0000
END:STANDARD
END:VTIMEZONE
BEGIN:VEVENT
UID:143-136
DTSTAMP:20260421T110652Z
SUMMARY:LIBRE R3 CRIC
LOCATION:
ORGANIZER;CN=Philippe BARRET:MAILTO:philbar45@gmail.com
DTSTART;TZID=Europe/Paris:20250615T000000
DTEND;TZID=Europe/Paris:20250615T010000
X-ALT-DESC;FMTTYPE=TEXT/HTML:
CATEGORIES:LIBRE R3
URL;VALUE=URI:https://billardclubbalgentien.fr/mc-events/libre-r3-cric/
METHOD:PUBLISH
END:VEVENT
END:VCALENDAR