BEGIN:VCALENDAR
VERSION:2.0
PRODID:spatie/icalendar-generator
DESCRIPTION:Évènements de BILLARD CLUB BALGENTIEN
X-WR-CALDESC:Évènements de BILLARD CLUB BALGENTIEN
REFRESH-INTERVAL;VALUE=DURATION:PT1440M
X-PUBLISHED-TTL:PT1440M
BEGIN:VTIMEZONE
TZID:Europe/Paris
BEGIN:DAYLIGHT
DTSTART:20250330T020000Z
TZOFFSETFROM:+0100
TZOFFSETTO:+0200
END:DAYLIGHT
BEGIN:STANDARD
DTSTART:20251026T030000Z
TZOFFSETFROM:+0200
TZOFFSETTO:+0100
END:STANDARD
BEGIN:DAYLIGHT
DTSTART:20260329T020000Z
TZOFFSETFROM:+0100
TZOFFSETTO:+0200
END:DAYLIGHT
END:VTIMEZONE
BEGIN:VTIMEZONE
TZID:UTC
BEGIN:STANDARD
DTSTART:20250725T141551Z
TZOFFSETFROM:+0000
TZOFFSETTO:+0000
END:STANDARD
END:VTIMEZONE
BEGIN:VEVENT
UID:173-163
DTSTAMP:20260421T141551Z
SUMMARY:LIBRE R2 SARAN
LOCATION:
ORGANIZER;CN=Philippe BARRET:MAILTO:philbar45@gmail.com
DTSTART;TZID=Europe/Paris:20251005T090000
DTEND;TZID=Europe/Paris:20251005T100000
X-ALT-DESC;FMTTYPE=TEXT/HTML:
CATEGORIES:LIBRE R2
URL;VALUE=URI:https://billardclubbalgentien.fr/mc-events/libre-r2-saran/
METHOD:PUBLISH
END:VEVENT
END:VCALENDAR